BEGIN:VCALENDAR
VERSION:2.0
PRODID:-//Un arôme 2 chefs - ECPv6.15.20//NONSGML v1.0//EN
CALSCALE:GREGORIAN
METHOD:PUBLISH
X-WR-CALNAME:Un arôme 2 chefs
X-ORIGINAL-URL:https://www.unarome2chefs.com
X-WR-CALDESC:Évènements pour Un arôme 2 chefs
REFRESH-INTERVAL;VALUE=DURATION:PT1H
X-Robots-Tag:noindex
X-PUBLISHED-TTL:PT1H
BEGIN:VTIMEZONE
TZID:Europe/Paris
BEGIN:DAYLIGHT
TZOFFSETFROM:+0100
TZOFFSETTO:+0200
TZNAME:CEST
DTSTART:20230326T010000
END:DAYLIGHT
BEGIN:STANDARD
TZOFFSETFROM:+0200
TZOFFSETTO:+0100
TZNAME:CET
DTSTART:20231029T010000
END:STANDARD
BEGIN:DAYLIGHT
TZOFFSETFROM:+0100
TZOFFSETTO:+0200
TZNAME:CEST
DTSTART:20240331T010000
END:DAYLIGHT
BEGIN:STANDARD
TZOFFSETFROM:+0200
TZOFFSETTO:+0100
TZNAME:CET
DTSTART:20241027T010000
END:STANDARD
BEGIN:DAYLIGHT
TZOFFSETFROM:+0100
TZOFFSETTO:+0200
TZNAME:CEST
DTSTART:20250330T010000
END:DAYLIGHT
BEGIN:STANDARD
TZOFFSETFROM:+0200
TZOFFSETTO:+0100
TZNAME:CET
DTSTART:20251026T010000
END:STANDARD
END:VTIMEZONE
BEGIN:VEVENT
DTSTART;TZID=Europe/Paris:20240403T140000
DTEND;TZID=Europe/Paris:20240403T160000
DTSTAMP:20260422T202145
CREATED:20230421T084318Z
LAST-MODIFIED:20240119T100231Z
UID:9147-1712152800-1712160000@www.unarome2chefs.com
SUMMARY:Cours enfant
DESCRIPTION:Entrée: \n\n\n\nBruschetta courgette grillée mozzarella lard\, pesto tomate et basilic \n\n\n\nPlat: \n\n\n\nRisotto  aux petit pois jambon mascarpone et parmesan\, avec tomate cerise rôti au caramel balsamique \n\n\n\n \n\n\n\nDessert: \n\n\n\nverrine mousse vanilles fraise en 2 façon et crumble amande
URL:https://www.unarome2chefs.com/evenement/cours-enfant-cuisine-dete/
CATEGORIES:Cours de cuisine
ATTACH;FMTTYPE=image/jpeg:https://www.unarome2chefs.com/wp-content/uploads/2020/12/photo-cours-enfants.jpg
END:VEVENT
END:VCALENDAR