BEGIN:VCALENDAR
VERSION:2.0
PRODID:-//Un arôme 2 chefs - ECPv6.15.20//NONSGML v1.0//EN
CALSCALE:GREGORIAN
METHOD:PUBLISH
X-ORIGINAL-URL:https://www.unarome2chefs.com
X-WR-CALDESC:Évènements pour Un arôme 2 chefs
REFRESH-INTERVAL;VALUE=DURATION:PT1H
X-Robots-Tag:noindex
X-PUBLISHED-TTL:PT1H
BEGIN:VTIMEZONE
TZID:Europe/Paris
BEGIN:DAYLIGHT
TZOFFSETFROM:+0100
TZOFFSETTO:+0200
TZNAME:CEST
DTSTART:20230326T010000
END:DAYLIGHT
BEGIN:STANDARD
TZOFFSETFROM:+0200
TZOFFSETTO:+0100
TZNAME:CET
DTSTART:20231029T010000
END:STANDARD
BEGIN:DAYLIGHT
TZOFFSETFROM:+0100
TZOFFSETTO:+0200
TZNAME:CEST
DTSTART:20240331T010000
END:DAYLIGHT
BEGIN:STANDARD
TZOFFSETFROM:+0200
TZOFFSETTO:+0100
TZNAME:CET
DTSTART:20241027T010000
END:STANDARD
BEGIN:DAYLIGHT
TZOFFSETFROM:+0100
TZOFFSETTO:+0200
TZNAME:CEST
DTSTART:20250330T010000
END:DAYLIGHT
BEGIN:STANDARD
TZOFFSETFROM:+0200
TZOFFSETTO:+0100
TZNAME:CET
DTSTART:20251026T010000
END:STANDARD
END:VTIMEZONE
BEGIN:VEVENT
DTSTART;TZID=Europe/Paris:20240206T180000
DTEND;TZID=Europe/Paris:20240206T200000
DTSTAMP:20260422T235708
CREATED:20220514T123102Z
LAST-MODIFIED:20231122T172529Z
UID:8442-1707242400-1707249600@www.unarome2chefs.com
SUMMARY:Cours Maki/sushi
DESCRIPTION:Sushi gambas et coco grillées \n\n\n\nMaki saumon crèmes d’herbes folle et courgette \n\n\n\nHosomaki filet mignon confit d’oignons et sainte maure \n\n\n\nCalifornia feta\, olive\, crème Tatsinski et concombre
URL:https://www.unarome2chefs.com/evenement/cours-maki-sushi-4/
CATEGORIES:Cours de cuisine
ATTACH;FMTTYPE=image/png:https://www.unarome2chefs.com/wp-content/uploads/2021/06/Gastronomique-3.png
END:VEVENT
END:VCALENDAR