BEGIN:VCALENDAR
VERSION:2.0
PRODID:-//Un arôme 2 chefs - ECPv6.15.20//NONSGML v1.0//EN
CALSCALE:GREGORIAN
METHOD:PUBLISH
X-WR-CALNAME:Un arôme 2 chefs
X-ORIGINAL-URL:https://www.unarome2chefs.com
X-WR-CALDESC:Évènements pour Un arôme 2 chefs
REFRESH-INTERVAL;VALUE=DURATION:PT1H
X-Robots-Tag:noindex
X-PUBLISHED-TTL:PT1H
BEGIN:VTIMEZONE
TZID:Europe/Paris
BEGIN:DAYLIGHT
TZOFFSETFROM:+0100
TZOFFSETTO:+0200
TZNAME:CEST
DTSTART:20220327T010000
END:DAYLIGHT
BEGIN:STANDARD
TZOFFSETFROM:+0200
TZOFFSETTO:+0100
TZNAME:CET
DTSTART:20221030T010000
END:STANDARD
BEGIN:DAYLIGHT
TZOFFSETFROM:+0100
TZOFFSETTO:+0200
TZNAME:CEST
DTSTART:20230326T010000
END:DAYLIGHT
BEGIN:STANDARD
TZOFFSETFROM:+0200
TZOFFSETTO:+0100
TZNAME:CET
DTSTART:20231029T010000
END:STANDARD
BEGIN:DAYLIGHT
TZOFFSETFROM:+0100
TZOFFSETTO:+0200
TZNAME:CEST
DTSTART:20240331T010000
END:DAYLIGHT
BEGIN:STANDARD
TZOFFSETFROM:+0200
TZOFFSETTO:+0100
TZNAME:CET
DTSTART:20241027T010000
END:STANDARD
END:VTIMEZONE
BEGIN:VEVENT
DTSTART;TZID=Europe/Paris:20230802T180000
DTEND;TZID=Europe/Paris:20230802T210000
DTSTAMP:20260423T093505
CREATED:20230421T085141Z
LAST-MODIFIED:20230727T161249Z
UID:9149-1690999200-1691010000@www.unarome2chefs.com
SUMMARY:Menu gastronomique en mode soleil avec repas sur place
DESCRIPTION:Entrée: \n\n\n\nTarte fine filet de rouget petits légumes rôti  et crème de poivron doux paprika fumé et chorizo \n\n\n\n \n\n\n\nPlat: \n\n\n\nMagret de canard laqué au caramel de tomate aux 2 sésame\, riz sautais façon cantonais\, tempura de jeunes carottes\, velouté de balsamique miel et graines de moutardes \n\n\n\n \n\n\n\nTrilogie autour de la fraise: \n\n\n\nPanna cotta vanille de mada\, coulis de e fraise et tartare de fraise fraiche \n\n\n\nPoeler de fraise balsamique/basilic \n\n\n\nCupcake fraise framboise myrtilles
URL:https://www.unarome2chefs.com/evenement/menu-gastronomique-en-mode-soleil-avec-repas-sur-place/
CATEGORIES:Cours de cuisine
ATTACH;FMTTYPE=image/jpeg:https://www.unarome2chefs.com/wp-content/uploads/2022/11/49-min.jpg
END:VEVENT
END:VCALENDAR