BEGIN:VCALENDAR
VERSION:2.0
PRODID:-//Un arôme 2 chefs - ECPv6.15.20//NONSGML v1.0//EN
CALSCALE:GREGORIAN
METHOD:PUBLISH
X-WR-CALNAME:Un arôme 2 chefs
X-ORIGINAL-URL:https://www.unarome2chefs.com
X-WR-CALDESC:Évènements pour Un arôme 2 chefs
REFRESH-INTERVAL;VALUE=DURATION:PT1H
X-Robots-Tag:noindex
X-PUBLISHED-TTL:PT1H
BEGIN:VTIMEZONE
TZID:Europe/Paris
BEGIN:DAYLIGHT
TZOFFSETFROM:+0100
TZOFFSETTO:+0200
TZNAME:CEST
DTSTART:20210328T010000
END:DAYLIGHT
BEGIN:STANDARD
TZOFFSETFROM:+0200
TZOFFSETTO:+0100
TZNAME:CET
DTSTART:20211031T010000
END:STANDARD
BEGIN:DAYLIGHT
TZOFFSETFROM:+0100
TZOFFSETTO:+0200
TZNAME:CEST
DTSTART:20220327T010000
END:DAYLIGHT
BEGIN:STANDARD
TZOFFSETFROM:+0200
TZOFFSETTO:+0100
TZNAME:CET
DTSTART:20221030T010000
END:STANDARD
BEGIN:DAYLIGHT
TZOFFSETFROM:+0100
TZOFFSETTO:+0200
TZNAME:CEST
DTSTART:20230326T010000
END:DAYLIGHT
BEGIN:STANDARD
TZOFFSETFROM:+0200
TZOFFSETTO:+0100
TZNAME:CET
DTSTART:20231029T010000
END:STANDARD
END:VTIMEZONE
BEGIN:VEVENT
DTSTART;TZID=Europe/Paris:20221216T180000
DTEND;TZID=Europe/Paris:20221216T210000
DTSTAMP:20260423T213322
CREATED:20221022T124000Z
LAST-MODIFIED:20221126T081446Z
UID:8545-1671213600-1671224400@www.unarome2chefs.com
SUMMARY:Cours Gastronomique
DESCRIPTION:Entrée: \n\n\n\nRaviole de langoustine & sa bisque de carapace  \n\n\n\nPlat: \n\n\n\nPavé de veau en croûte d’ail des ours\, crème de cèpes au vin jaune\, pâtes au potimarron rôti & graines grillées \n\n\n\nDessert: \n\n\n\nBiscuit cacao\, entremet poire-tonka & cœur coulant caramel beurre salé
URL:https://www.unarome2chefs.com/evenement/cours-gastronomique-6/
CATEGORIES:Cours de cuisine
ATTACH;FMTTYPE=image/png:https://www.unarome2chefs.com/wp-content/uploads/2021/12/Gastronomique.png
END:VEVENT
END:VCALENDAR