BEGIN:VCALENDAR
VERSION:2.0
PRODID:-//Un arôme 2 chefs - ECPv6.15.20//NONSGML v1.0//EN
CALSCALE:GREGORIAN
METHOD:PUBLISH
X-ORIGINAL-URL:https://www.unarome2chefs.com
X-WR-CALDESC:Évènements pour Un arôme 2 chefs
REFRESH-INTERVAL;VALUE=DURATION:PT1H
X-Robots-Tag:noindex
X-PUBLISHED-TTL:PT1H
BEGIN:VTIMEZONE
TZID:Europe/Paris
BEGIN:DAYLIGHT
TZOFFSETFROM:+0100
TZOFFSETTO:+0200
TZNAME:CEST
DTSTART:20210328T010000
END:DAYLIGHT
BEGIN:STANDARD
TZOFFSETFROM:+0200
TZOFFSETTO:+0100
TZNAME:CET
DTSTART:20211031T010000
END:STANDARD
BEGIN:DAYLIGHT
TZOFFSETFROM:+0100
TZOFFSETTO:+0200
TZNAME:CEST
DTSTART:20220327T010000
END:DAYLIGHT
BEGIN:STANDARD
TZOFFSETFROM:+0200
TZOFFSETTO:+0100
TZNAME:CET
DTSTART:20221030T010000
END:STANDARD
BEGIN:DAYLIGHT
TZOFFSETFROM:+0100
TZOFFSETTO:+0200
TZNAME:CEST
DTSTART:20230326T010000
END:DAYLIGHT
BEGIN:STANDARD
TZOFFSETFROM:+0200
TZOFFSETTO:+0100
TZNAME:CET
DTSTART:20231029T010000
END:STANDARD
END:VTIMEZONE
BEGIN:VEVENT
DTSTART;TZID=Europe/Paris:20221101T140000
DTEND;TZID=Europe/Paris:20221101T160000
DTSTAMP:20260423T225604
CREATED:20220514T121914Z
LAST-MODIFIED:20221126T085432Z
UID:8437-1667311200-1667318400@www.unarome2chefs.com
SUMMARY:Cours Enfant
DESCRIPTION:Mon repas d’été \n\n\n\n\nBruschetta mozzarella tomates et jambon cru au parfum de basilic\n\n\n\n\n\nBagels poulet  vapeur mayonnaise au curry salade et tagliatelles de carottes\n\n\n\n\n\nBrochette de pdt rôtie  aux épices cajun\n\n\n\n\n\nTiramisu au fraises\n\n\n\n\n5€ pour l’accompagnateur
URL:https://www.unarome2chefs.com/evenement/cours-enfant-7/
CATEGORIES:Cours de cuisine
ATTACH;FMTTYPE=image/jpeg:https://www.unarome2chefs.com/wp-content/uploads/2020/12/photo-cours-enfants.jpg
END:VEVENT
END:VCALENDAR