BEGIN:VCALENDAR
VERSION:2.0
PRODID:-//Un arôme 2 chefs - ECPv6.15.20//NONSGML v1.0//EN
CALSCALE:GREGORIAN
METHOD:PUBLISH
X-WR-CALNAME:Un arôme 2 chefs
X-ORIGINAL-URL:https://www.unarome2chefs.com
X-WR-CALDESC:Évènements pour Un arôme 2 chefs
REFRESH-INTERVAL;VALUE=DURATION:PT1H
X-Robots-Tag:noindex
X-PUBLISHED-TTL:PT1H
BEGIN:VTIMEZONE
TZID:Europe/Paris
BEGIN:DAYLIGHT
TZOFFSETFROM:+0100
TZOFFSETTO:+0200
TZNAME:CEST
DTSTART:20210328T010000
END:DAYLIGHT
BEGIN:STANDARD
TZOFFSETFROM:+0200
TZOFFSETTO:+0100
TZNAME:CET
DTSTART:20211031T010000
END:STANDARD
BEGIN:DAYLIGHT
TZOFFSETFROM:+0100
TZOFFSETTO:+0200
TZNAME:CEST
DTSTART:20220327T010000
END:DAYLIGHT
BEGIN:STANDARD
TZOFFSETFROM:+0200
TZOFFSETTO:+0100
TZNAME:CET
DTSTART:20221030T010000
END:STANDARD
BEGIN:DAYLIGHT
TZOFFSETFROM:+0100
TZOFFSETTO:+0200
TZNAME:CEST
DTSTART:20230326T010000
END:DAYLIGHT
BEGIN:STANDARD
TZOFFSETFROM:+0200
TZOFFSETTO:+0100
TZNAME:CET
DTSTART:20231029T010000
END:STANDARD
END:VTIMEZONE
BEGIN:VEVENT
DTSTART;TZID=Europe/Paris:20221027T180000
DTEND;TZID=Europe/Paris:20221027T200000
DTSTAMP:20260424T164845
CREATED:20210612T130119Z
LAST-MODIFIED:20221126T085723Z
UID:7939-1666893600-1666900800@www.unarome2chefs.com
SUMMARY:Maki/sushi
DESCRIPTION:Cours à emporter !!! \n\n\n\n\n\nMaki tataki de thon\, crème de curry rouge & pousse d’épinard \n\n\n\nFlocon Rolls crevettes\, mousse massalé & ananas \n\n\n\nCalifornia Rolls poulet fumé aux épices grillées\, crèmes d’avocat & maïs rôti \n\n\n\nSushi magret de canard mi-cuit & caramel balsamique
URL:https://www.unarome2chefs.com/evenement/maki-sushi/
CATEGORIES:Cours de cuisine
ATTACH;FMTTYPE=image/png:https://www.unarome2chefs.com/wp-content/uploads/2021/06/Gastronomique-3.png
END:VEVENT
END:VCALENDAR