BEGIN:VCALENDAR
VERSION:2.0
PRODID:-//Un arôme 2 chefs - ECPv6.15.20//NONSGML v1.0//EN
CALSCALE:GREGORIAN
METHOD:PUBLISH
X-WR-CALNAME:Un arôme 2 chefs
X-ORIGINAL-URL:https://www.unarome2chefs.com
X-WR-CALDESC:Évènements pour Un arôme 2 chefs
REFRESH-INTERVAL;VALUE=DURATION:PT1H
X-Robots-Tag:noindex
X-PUBLISHED-TTL:PT1H
BEGIN:VTIMEZONE
TZID:Europe/Paris
BEGIN:DAYLIGHT
TZOFFSETFROM:+0100
TZOFFSETTO:+0200
TZNAME:CEST
DTSTART:20210328T010000
END:DAYLIGHT
BEGIN:STANDARD
TZOFFSETFROM:+0200
TZOFFSETTO:+0100
TZNAME:CET
DTSTART:20211031T010000
END:STANDARD
BEGIN:DAYLIGHT
TZOFFSETFROM:+0100
TZOFFSETTO:+0200
TZNAME:CEST
DTSTART:20220327T010000
END:DAYLIGHT
BEGIN:STANDARD
TZOFFSETFROM:+0200
TZOFFSETTO:+0100
TZNAME:CET
DTSTART:20221030T010000
END:STANDARD
BEGIN:DAYLIGHT
TZOFFSETFROM:+0100
TZOFFSETTO:+0200
TZNAME:CEST
DTSTART:20230326T010000
END:DAYLIGHT
BEGIN:STANDARD
TZOFFSETFROM:+0200
TZOFFSETTO:+0100
TZNAME:CET
DTSTART:20231029T010000
END:STANDARD
END:VTIMEZONE
BEGIN:VEVENT
DTSTART;TZID=Europe/Paris:20221019T180000
DTEND;TZID=Europe/Paris:20221019T200000
DTSTAMP:20260420T223804
CREATED:20221126T090206Z
LAST-MODIFIED:20221126T090208Z
UID:8886-1666202400-1666209600@www.unarome2chefs.com
SUMMARY:Les mezze cuisine libanaise
DESCRIPTION:Houmous\n\n\n\nFalafels\n\n\n\nTaboulé libanais\n\n\n\nCaviar aubergine\n\n\n\nkefta libanais et crème de concombre façon tzatziki
URL:https://www.unarome2chefs.com/evenement/les-mezze-cuisine-libanaise/
CATEGORIES:Cours de cuisine
ATTACH;FMTTYPE=image/png:https://www.unarome2chefs.com/wp-content/uploads/2020/10/mezze.png
END:VEVENT
END:VCALENDAR