BEGIN:VCALENDAR
VERSION:2.0
PRODID:-//Un arôme 2 chefs - ECPv6.15.20//NONSGML v1.0//EN
CALSCALE:GREGORIAN
METHOD:PUBLISH
X-WR-CALNAME:Un arôme 2 chefs
X-ORIGINAL-URL:https://www.unarome2chefs.com
X-WR-CALDESC:Évènements pour Un arôme 2 chefs
REFRESH-INTERVAL;VALUE=DURATION:PT1H
X-Robots-Tag:noindex
X-PUBLISHED-TTL:PT1H
BEGIN:VTIMEZONE
TZID:Europe/Paris
BEGIN:DAYLIGHT
TZOFFSETFROM:+0100
TZOFFSETTO:+0200
TZNAME:CEST
DTSTART:20210328T010000
END:DAYLIGHT
BEGIN:STANDARD
TZOFFSETFROM:+0200
TZOFFSETTO:+0100
TZNAME:CET
DTSTART:20211031T010000
END:STANDARD
BEGIN:DAYLIGHT
TZOFFSETFROM:+0100
TZOFFSETTO:+0200
TZNAME:CEST
DTSTART:20220327T010000
END:DAYLIGHT
BEGIN:STANDARD
TZOFFSETFROM:+0200
TZOFFSETTO:+0100
TZNAME:CET
DTSTART:20221030T010000
END:STANDARD
BEGIN:DAYLIGHT
TZOFFSETFROM:+0100
TZOFFSETTO:+0200
TZNAME:CEST
DTSTART:20230326T010000
END:DAYLIGHT
BEGIN:STANDARD
TZOFFSETFROM:+0200
TZOFFSETTO:+0100
TZNAME:CET
DTSTART:20231029T010000
END:STANDARD
END:VTIMEZONE
BEGIN:VEVENT
DTSTART;TZID=Europe/Paris:20221011T180000
DTEND;TZID=Europe/Paris:20221011T213000
DTSTAMP:20260420T223844
CREATED:20220816T112300Z
LAST-MODIFIED:20221126T090337Z
UID:8489-1665511200-1665523800@www.unarome2chefs.com
SUMMARY:cours vip: Le roi des burgers  Benoit Sanchez juste pour vous
DESCRIPTION:Venez participer à ce cours avec  le tatoué toqué (Benoit Sanchez) et partagez ensuite le repas avec lui \n\n\n\nMini burger gravlax \, sauce bulgare et pickles de radis et jeune pousse d’épinard \n\n\n\n Burger hambourgeau (burger champion de France 2019) confit échalotte \, sauce moutarde miel\, pickles de betterave\, viande haché sainte maure tome de Touraine\, rillons et roquette \n\n\n\n Burger façon tatin \, buns façon pain perdu\, pommes caramélisée et crème mascarpone vanille et caramel beurre salé \n\n\n\n \n\n\n\nSANCHEZ BENOÎT DIT LE TATOUE TOQUE\,  \n\n\n\nRestaurateur sur tours « le tatoué toqué »\, vainqueur du concours burgers toques 2019\, vainqueur du concours world burgers contest 2021  \n\n\n\nMembre de l’équipe de France de burger et participe aux championnats du monde de burgers a Dallas. Membre de l’académie nationale de cuisine.
URL:https://www.unarome2chefs.com/evenement/cours-vip-le-roi-des-burgers-benoist-sanchez-juste-pour-vous/
CATEGORIES:Cours de cuisine
ATTACH;FMTTYPE=image/jpeg:https://www.unarome2chefs.com/wp-content/uploads/2022/08/received_761360638420286.jpeg
END:VEVENT
END:VCALENDAR