BEGIN:VCALENDAR
VERSION:2.0
PRODID:-//Un arôme 2 chefs - ECPv6.15.20//NONSGML v1.0//EN
CALSCALE:GREGORIAN
METHOD:PUBLISH
X-ORIGINAL-URL:https://www.unarome2chefs.com
X-WR-CALDESC:Évènements pour Un arôme 2 chefs
REFRESH-INTERVAL;VALUE=DURATION:PT1H
X-Robots-Tag:noindex
X-PUBLISHED-TTL:PT1H
BEGIN:VTIMEZONE
TZID:Europe/Paris
BEGIN:DAYLIGHT
TZOFFSETFROM:+0100
TZOFFSETTO:+0200
TZNAME:CEST
DTSTART:20200329T010000
END:DAYLIGHT
BEGIN:STANDARD
TZOFFSETFROM:+0200
TZOFFSETTO:+0100
TZNAME:CET
DTSTART:20201025T010000
END:STANDARD
BEGIN:DAYLIGHT
TZOFFSETFROM:+0100
TZOFFSETTO:+0200
TZNAME:CEST
DTSTART:20210328T010000
END:DAYLIGHT
BEGIN:STANDARD
TZOFFSETFROM:+0200
TZOFFSETTO:+0100
TZNAME:CET
DTSTART:20211031T010000
END:STANDARD
BEGIN:DAYLIGHT
TZOFFSETFROM:+0100
TZOFFSETTO:+0200
TZNAME:CEST
DTSTART:20220327T010000
END:DAYLIGHT
BEGIN:STANDARD
TZOFFSETFROM:+0200
TZOFFSETTO:+0100
TZNAME:CET
DTSTART:20221030T010000
END:STANDARD
END:VTIMEZONE
BEGIN:VEVENT
DTSTART;TZID=Europe/Paris:20210929T180000
DTEND;TZID=Europe/Paris:20210929T210000
DTSTAMP:20260425T122446
CREATED:20210615T144924Z
LAST-MODIFIED:20221126T091255Z
UID:7954-1632938400-1632949200@www.unarome2chefs.com
SUMMARY:Menu Asiatique
DESCRIPTION:Sur place ou 40€ à emporter !!! \n\n\n\nEntrée: \n\n\n\nRouleau de printemps crevette\, menthe\, légumes frais & sauce thaï \n\n\n\nYakitori de poulet\, miel & citronnelle \n\n\n\nPlat: \n\n\n\nNouilles sautées aux petits légumes croquants\, sauce soja & noix de cajou \n\n\n\nDessert: \n\n\n\nTempura de fruits & mousse coco
URL:https://www.unarome2chefs.com/evenement/menu-asiatique/
CATEGORIES:Cours de cuisine
ATTACH;FMTTYPE=image/png:https://www.unarome2chefs.com/wp-content/uploads/2021/06/Sans-titre.png
END:VEVENT
END:VCALENDAR