BEGIN:VCALENDAR
VERSION:2.0
PRODID:-//Un arôme 2 chefs - ECPv6.15.20//NONSGML v1.0//EN
CALSCALE:GREGORIAN
METHOD:PUBLISH
X-WR-CALNAME:Un arôme 2 chefs
X-ORIGINAL-URL:https://www.unarome2chefs.com
X-WR-CALDESC:Évènements pour Un arôme 2 chefs
REFRESH-INTERVAL;VALUE=DURATION:PT1H
X-Robots-Tag:noindex
X-PUBLISHED-TTL:PT1H
BEGIN:VTIMEZONE
TZID:Europe/Paris
BEGIN:DAYLIGHT
TZOFFSETFROM:+0100
TZOFFSETTO:+0200
TZNAME:CEST
DTSTART:20200329T010000
END:DAYLIGHT
BEGIN:STANDARD
TZOFFSETFROM:+0200
TZOFFSETTO:+0100
TZNAME:CET
DTSTART:20201025T010000
END:STANDARD
BEGIN:DAYLIGHT
TZOFFSETFROM:+0100
TZOFFSETTO:+0200
TZNAME:CEST
DTSTART:20210328T010000
END:DAYLIGHT
BEGIN:STANDARD
TZOFFSETFROM:+0200
TZOFFSETTO:+0100
TZNAME:CET
DTSTART:20211031T010000
END:STANDARD
BEGIN:DAYLIGHT
TZOFFSETFROM:+0100
TZOFFSETTO:+0200
TZNAME:CEST
DTSTART:20220327T010000
END:DAYLIGHT
BEGIN:STANDARD
TZOFFSETFROM:+0200
TZOFFSETTO:+0100
TZNAME:CET
DTSTART:20221030T010000
END:STANDARD
END:VTIMEZONE
BEGIN:VEVENT
DTSTART;TZID=Europe/Paris:20210915T150000
DTEND;TZID=Europe/Paris:20210915T170000
DTSTAMP:20260420T223307
CREATED:20210615T144159Z
LAST-MODIFIED:20221126T091514Z
UID:7952-1631718000-1631725200@www.unarome2chefs.com
SUMMARY:Cours Enfant "Tout sucré"
DESCRIPTION:Accompagnateur 5€ \n\n\n\nCrumble pomme cannelle  \n\n\n\nPopcake spéculoos & chocolat caramel \n\n\n\nVerrine framboise vanille \n\n\n\nMadeline pépite de chocolat & coco
URL:https://www.unarome2chefs.com/evenement/cours-enfant-tout-sucre/
CATEGORIES:Cours de cuisine
ATTACH;FMTTYPE=image/jpeg:https://www.unarome2chefs.com/wp-content/uploads/2020/09/cours_de_cuisine4.jpg
END:VEVENT
END:VCALENDAR