BEGIN:VCALENDAR
VERSION:2.0
PRODID:-//Un arôme 2 chefs - ECPv6.15.20//NONSGML v1.0//EN
CALSCALE:GREGORIAN
METHOD:PUBLISH
X-ORIGINAL-URL:https://www.unarome2chefs.com
X-WR-CALDESC:Évènements pour Un arôme 2 chefs
REFRESH-INTERVAL;VALUE=DURATION:PT1H
X-Robots-Tag:noindex
X-PUBLISHED-TTL:PT1H
BEGIN:VTIMEZONE
TZID:Europe/Paris
BEGIN:DAYLIGHT
TZOFFSETFROM:+0100
TZOFFSETTO:+0200
TZNAME:CEST
DTSTART:20220327T010000
END:DAYLIGHT
BEGIN:STANDARD
TZOFFSETFROM:+0200
TZOFFSETTO:+0100
TZNAME:CET
DTSTART:20221030T010000
END:STANDARD
BEGIN:DAYLIGHT
TZOFFSETFROM:+0100
TZOFFSETTO:+0200
TZNAME:CEST
DTSTART:20230326T010000
END:DAYLIGHT
BEGIN:STANDARD
TZOFFSETFROM:+0200
TZOFFSETTO:+0100
TZNAME:CET
DTSTART:20231029T010000
END:STANDARD
BEGIN:DAYLIGHT
TZOFFSETFROM:+0100
TZOFFSETTO:+0200
TZNAME:CEST
DTSTART:20240331T010000
END:DAYLIGHT
BEGIN:STANDARD
TZOFFSETFROM:+0200
TZOFFSETTO:+0100
TZNAME:CET
DTSTART:20241027T010000
END:STANDARD
END:VTIMEZONE
BEGIN:VEVENT
DTSTART;TZID=Europe/Paris:20230208T140000
DTEND;TZID=Europe/Paris:20230208T160000
DTSTAMP:20260423T170315
CREATED:20221226T145722Z
LAST-MODIFIED:20230119T092358Z
UID:8944-1675864800-1675872000@www.unarome2chefs.com
SUMMARY:Cours Pâtisserie enfant
DESCRIPTION:Moelleux au trois chocolat\n\n\n\ncupcake poire caramel coulant\n\n\n\nTiramisu framboise speculoos\n\n\n\nSucette au chocolat en creation libre\n\n\n\n\n(5€ pour les accompagnateurs – facultatif suivant place disponible)
URL:https://www.unarome2chefs.com/evenement/patisserie-enfant-de-15h00-a-17h00/
CATEGORIES:Cours de cuisine
ATTACH;FMTTYPE=image/jpeg:https://www.unarome2chefs.com/wp-content/uploads/2020/12/photo-cours-enfants.jpg
END:VEVENT
BEGIN:VEVENT
DTSTART;TZID=Europe/Paris:20230223T100000
DTEND;TZID=Europe/Paris:20230223T133000
DTSTAMP:20260423T170315
CREATED:20220121T131159Z
LAST-MODIFIED:20230104T143048Z
UID:8229-1677146400-1677159000@www.unarome2chefs.com
SUMMARY:Cours Gastronomique complet !!
DESCRIPTION:Entrée: \n\n\n\nVelouté de potimarron\, perles sautées\, saint jacques & gambas snackées & écume au parfum de truffe \n\n\n\nPlat: \n\n\n\nPavé de cabillaud rôti en croûte à l’ail d’ours\, rösti aux herbes\, billes de courgettes & beurre blanc vanillé \n\n\n\nDessert: \n\n\n\nSablé  breton\, caramel au beurre salé\, poêlée de pomme recouvert d’un dôme chocolat fondant & crème anglaise
URL:https://www.unarome2chefs.com/evenement/cours-gastronomique-2/
CATEGORIES:Cours de cuisine
ATTACH;FMTTYPE=image/png:https://www.unarome2chefs.com/wp-content/uploads/2021/12/Gastronomique.png
END:VEVENT
END:VCALENDAR