BEGIN:VCALENDAR
VERSION:2.0
PRODID:-//Un arôme 2 chefs - ECPv6.15.20//NONSGML v1.0//EN
CALSCALE:GREGORIAN
METHOD:PUBLISH
X-WR-CALNAME:Un arôme 2 chefs
X-ORIGINAL-URL:https://www.unarome2chefs.com
X-WR-CALDESC:Évènements pour Un arôme 2 chefs
REFRESH-INTERVAL;VALUE=DURATION:PT1H
X-Robots-Tag:noindex
X-PUBLISHED-TTL:PT1H
BEGIN:VTIMEZONE
TZID:Europe/Paris
BEGIN:DAYLIGHT
TZOFFSETFROM:+0100
TZOFFSETTO:+0200
TZNAME:CEST
DTSTART:20210328T010000
END:DAYLIGHT
BEGIN:STANDARD
TZOFFSETFROM:+0200
TZOFFSETTO:+0100
TZNAME:CET
DTSTART:20211031T010000
END:STANDARD
BEGIN:DAYLIGHT
TZOFFSETFROM:+0100
TZOFFSETTO:+0200
TZNAME:CEST
DTSTART:20220327T010000
END:DAYLIGHT
BEGIN:STANDARD
TZOFFSETFROM:+0200
TZOFFSETTO:+0100
TZNAME:CET
DTSTART:20221030T010000
END:STANDARD
BEGIN:DAYLIGHT
TZOFFSETFROM:+0100
TZOFFSETTO:+0200
TZNAME:CEST
DTSTART:20230326T010000
END:DAYLIGHT
BEGIN:STANDARD
TZOFFSETFROM:+0200
TZOFFSETTO:+0100
TZNAME:CET
DTSTART:20231029T010000
END:STANDARD
END:VTIMEZONE
BEGIN:VEVENT
DTSTART;TZID=Europe/Paris:20220921T180000
DTEND;TZID=Europe/Paris:20220921T200000
DTSTAMP:20260424T164342
CREATED:20220514T123459Z
LAST-MODIFIED:20221108T135613Z
UID:8444-1663783200-1663790400@www.unarome2chefs.com
SUMMARY:Cours Macaron
DESCRIPTION:Macaron fraise yuzu \n\n\n\nMacaron chocolat caramel beurre salé \n\n\n\nMacaron salé:  poulet fumé\, chorizo et crème avocat
URL:https://www.unarome2chefs.com/evenement/cours-macaron-2/
CATEGORIES:Cours de cuisine
END:VEVENT
BEGIN:VEVENT
DTSTART;TZID=Europe/Paris:20220928T180000
DTEND;TZID=Europe/Paris:20220928T200000
DTSTAMP:20260424T164342
CREATED:20211207T160426Z
LAST-MODIFIED:20221108T135606Z
UID:8168-1664388000-1664395200@www.unarome2chefs.com
SUMMARY:Cours Pâte à choux
DESCRIPTION:choux chantilly tonka avec craquelin & coulis chocolatchoux crème citron-ciboulette\, saumon fumé & anethgougères au cheddarFabrication de nougatine à l’amande
URL:https://www.unarome2chefs.com/evenement/cours-pate-a-choux-2/
CATEGORIES:Cours de cuisine
ATTACH;FMTTYPE=image/png:https://www.unarome2chefs.com/wp-content/uploads/2021/12/Cours-de-cuisine.png
END:VEVENT
END:VCALENDAR